BEGIN:VCALENDAR
VERSION:2.0
PRODID:-//Particolare Trainingen - ECPv5.4.0.2//NONSGML v1.0//EN
CALSCALE:GREGORIAN
METHOD:PUBLISH
X-WR-CALNAME:Particolare Trainingen
X-ORIGINAL-URL:https://particolaretrainingen.nl
X-WR-CALDESC:Evenementen voor Particolare Trainingen
BEGIN:VTIMEZONE
TZID:UTC
BEGIN:STANDARD
TZOFFSETFROM:+0000
TZOFFSETTO:+0000
TZNAME:UTC
DTSTART:20250101T000000
END:STANDARD
END:VTIMEZONE
BEGIN:VEVENT
DTSTART;TZID=UTC:20250208T100000
DTEND;TZID=UTC:20250209T173000
DTSTAMP:20260422T224052
CREATED:20240817T135732Z
LAST-MODIFIED:20250119T123015Z
UID:3558-1739008800-1739122200@particolaretrainingen.nl
SUMMARY:2-daagse workshop 'In verbinding met de kracht van je vrouwenlijn' februari (Vol met wachtlijst)
DESCRIPTION:Loeloe Andriol en haar dochter Ninka Brand organiseren een tweedaagse workshop “in verbinding met de kracht van je vrouwenlijn. Op een prachtige plek in Drenthe midden in de natuur. \nIn deze workshop gaan we ons verbinden met de vrouwen uit onze generatielijn en de helende\, voedende krachten ervaren die in elke vrouwenlijn aanwezig is. Deze lijn loopt van dochter naar moeder\, naar grootmoeder\, overgrootmoeder en uiteindelijk tot de oermoeder. De lijn die achter jou ligt heeft impact op jou en op de generaties die na jou komen en jij staat in het midden ervan! \nDoor je goed te verbinden met je “voormoeders” kan je meer in verbinding komen met jezelf en je eigen plek in de wereld krachtiger innemen en meer in contact komen met je vrouwelijke kracht. Inzicht in jouw vrouwenlijn is de eerste stap naar heling! Je kunt patronen die generatie op generatie doorgegeven worden verbreken en jouw eigen unieke pad gaan lopen terwijl je de kracht en liefde van je voormoeders door je heen laat stromen. \nWe gaan aan de slag met mooie systemische oefeningen met het voorouderveld en iedere vrouw krijgt een opstelling met haar vrouwenlijn. \nOok gaan we kijken waar je op dit moment van je leven wat extra’s kan gebruiken en hoe je de versterkende en liefdevolle kracht van je voormoeders kan ervaren. En zo hebben we nog meer mooie oefeningen die je helpen om jouw pad te lopen\, zonder ballast en onbewust gedragen lasten uit jouw familiesysteem. \nTussendoor gaan we verschillende geleide meditaties en lichaamsgerichte oefeningen doen om weer goed in ons eigen lijf te komen en die ons in dit proces ondersteunen. \nTwee dagen die in het teken staan van verbondenheid\, creativiteit\, heling\, plezier maken en voeding op veler gebied. \nOvernachting op eigen gelegenheid. Tips voor goedkope mogelijkheden op aanvraag.Datum:            Zaterdag 8 & zondag 9 februari 2025. We starten om 10.00 uur en stoppen om 17.30 uur. Locatie:           Casa Particolare\, Amerika 1-H18\, EenBijdrage:        € 235\,00 inclusief een lekkere gezonde lunch\, lekkers\, fruit en materialen\, exclusief overnachting.Aanmelden:   particolare@live.nl of 06-12067679 \n 
URL:https://particolaretrainingen.nl/event/tweedaagse-workshop-in-verbinding-met-de-kracht-van-je-vrouwenlijn-februari-2025/
ATTACH;FMTTYPE=image/jpeg:https://particolaretrainingen.nl/wp-content/uploads/2020/07/vrouwenlijn.jpeg
END:VEVENT
END:VCALENDAR